BEGIN:VCALENDAR
VERSION:2.0
PRODID:-//wp-events-plugin.com//7.2.3.1//EN
TZID:America/Los_Angeles
X-WR-TIMEZONE:America/Los_Angeles
BEGIN:VEVENT
UID:2613@bayareaartschool.com
DTSTART;TZID=America/Los_Angeles:20260608T100000
DTEND;TZID=America/Los_Angeles:20260612T160000
DTSTAMP:20260304T013201Z
URL:https://bayareaartschool.com/events/summer-art-camp-template/
SUMMARY:Comics & Cartooning 1 - Summer Art Camp for Ages 9-14
DESCRIPTION:This week is Comics and Cartooning. Learn to create visual stor
 ies\, original characters and have a blast with new friends. Summer Art Cl
 asses in Pacifica & 10 mins from SF
ATTACH;FMTTYPE=image/jpeg:https://bayareaartschool.com/site/wp-content/upl
 oads/2025/04/20250410_105201.jpg
CATEGORIES:Art Camps,For ages 9-14 years old,For Kids,Summer Art Camps
 2026
END:VEVENT
BEGIN:VTIMEZONE
TZID:America/Los_Angeles
X-LIC-LOCATION:America/Los_Angeles
BEGIN:DAYLIGHT
DTSTART:20260308T030000
TZOFFSETFROM:-0800
TZOFFSETTO:-0700
TZNAME:PDT
END:DAYLIGHT
END:VTIMEZONE
END:VCALENDAR