BEGIN:VCALENDAR
VERSION:2.0
PRODID:-//wp-events-plugin.com//7.2.3.1//EN
TZID:America/Los_Angeles
X-WR-TIMEZONE:America/Los_Angeles
BEGIN:VEVENT
UID:2616@bayareaartschool.com
DTSTART;TZID=America/Los_Angeles:20260713T100000
DTEND;TZID=America/Los_Angeles:20260717T160000
DTSTAMP:20260304T013403Z
URL:https://bayareaartschool.com/events/fantasy-creatures-world-creation-a
 rt-camp-summer-art-camp/
SUMMARY:Fantasy Creatures & World Creation Art Camp - Summer Art Camp
DESCRIPTION:Summer Art Classes in Pacifica & 10 mins from SF: Learn and hav
 e a blast with us! 
CATEGORIES:Art Camps,For ages 9-12 years old,For Kids,Summer Art Camps
 2026
END:VEVENT
BEGIN:VTIMEZONE
TZID:America/Los_Angeles
X-LIC-LOCATION:America/Los_Angeles
BEGIN:DAYLIGHT
DTSTART:20260308T030000
TZOFFSETFROM:-0800
TZOFFSETTO:-0700
TZNAME:PDT
END:DAYLIGHT
END:VTIMEZONE
END:VCALENDAR