BEGIN:VCALENDAR
VERSION:2.0
PRODID:-//wp-events-plugin.com//7.2.3.1//EN
TZID:America/Los_Angeles
X-WR-TIMEZONE:America/Los_Angeles
BEGIN:VEVENT
UID:2614@bayareaartschool.com
DTSTART;TZID=America/Los_Angeles:20260622T100000
DTEND;TZID=America/Los_Angeles:20260626T160000
DTSTAMP:20260304T013300Z
URL:https://bayareaartschool.com/events/dynamic-poses-summer-art-camp-for-
 ages-11-16/
SUMMARY:Dynamic Poses - Summer Art Camp for Ages 11-16
DESCRIPTION:Unlock the secrets of bringing your drawing to life with variou
 s techiniques and focusing on creating dynamic forms. Summer Art Classes i
 n Pacifica & 10 mins from SF: Learn and have a blast with us! 
ATTACH;FMTTYPE=image/jpeg:https://bayareaartschool.com/site/wp-content/upl
 oads/2026/02/20250808_145658_edit1.jpg
CATEGORIES:Art Camps,For ages 11-16 years old,For Kids,Summer Art Camps
 2026
END:VEVENT
BEGIN:VTIMEZONE
TZID:America/Los_Angeles
X-LIC-LOCATION:America/Los_Angeles
BEGIN:DAYLIGHT
DTSTART:20260308T030000
TZOFFSETFROM:-0800
TZOFFSETTO:-0700
TZNAME:PDT
END:DAYLIGHT
END:VTIMEZONE
END:VCALENDAR